BEGIN:VCALENDAR
VERSION:2.0
PRODID:-//5CHRONICITE - ECPv6.15.20//NONSGML v1.0//EN
CALSCALE:GREGORIAN
METHOD:PUBLISH
X-WR-CALNAME:5CHRONICITE
X-ORIGINAL-URL:https://5chronicite.fr
X-WR-CALDESC:Évènements pour 5CHRONICITE
REFRESH-INTERVAL;VALUE=DURATION:PT1H
X-Robots-Tag:noindex
X-PUBLISHED-TTL:PT1H
BEGIN:VTIMEZONE
TZID:Europe/Paris
BEGIN:DAYLIGHT
TZOFFSETFROM:+0100
TZOFFSETTO:+0200
TZNAME:CEST
DTSTART:20230326T010000
END:DAYLIGHT
BEGIN:STANDARD
TZOFFSETFROM:+0200
TZOFFSETTO:+0100
TZNAME:CET
DTSTART:20231029T010000
END:STANDARD
BEGIN:DAYLIGHT
TZOFFSETFROM:+0100
TZOFFSETTO:+0200
TZNAME:CEST
DTSTART:20240331T010000
END:DAYLIGHT
BEGIN:STANDARD
TZOFFSETFROM:+0200
TZOFFSETTO:+0100
TZNAME:CET
DTSTART:20241027T010000
END:STANDARD
BEGIN:DAYLIGHT
TZOFFSETFROM:+0100
TZOFFSETTO:+0200
TZNAME:CEST
DTSTART:20250330T010000
END:DAYLIGHT
BEGIN:STANDARD
TZOFFSETFROM:+0200
TZOFFSETTO:+0100
TZNAME:CET
DTSTART:20251026T010000
END:STANDARD
END:VTIMEZONE
BEGIN:VEVENT
DTSTART;TZID=Europe/Paris:20241101T160000
DTEND;TZID=Europe/Paris:20241101T220000
DTSTAMP:20260420T054823
CREATED:20240502T155538Z
LAST-MODIFIED:20240502T155804Z
UID:3942-1730476800-1730498400@5chronicite.fr
SUMMARY:Pêche à la Tautène 2024
DESCRIPTION:Vendredi 1 novembre 2024 pêche a la TAUTENE      \nInscription a 16h30 départ 17h00 \nRetour 20h00 pesée et remise des prix suivi d’un apéritif – Pizza. \nSi mauvais temps une date sera convenue. \n \n \n\n           Download QR
URL:https://5chronicite.fr/event-calendrier-des-evenements/peche-a-la-tautene-2024/
LOCATION:Société Nautique LEÏ PESCADOU DE L’ESTACO\, Quai de l'Estaque\, MARSEILLE\, Bouches du Rhône\, 13016\, France
CATEGORIES:Pêche
ATTACH;FMTTYPE=image/jpeg:https://5chronicite.fr/wp-content/uploads/2023/09/IMG_0216-600x600-1.jpeg
ORGANIZER;CN="Soci%C3%A9t%C3%A9 Nautique LE%C3%8F POESCADOU DE L'ESTACO":MAILTO:eric.benente@gmail.com
END:VEVENT
END:VCALENDAR